BEGIN:VCALENDAR
VERSION:2.0
PRODID:gruene-bergtheim.de
METHOD:PUBLISH
BEGIN:VTIMEZONE
TZID:Europe/Berlin
X-LIC-LOCATION:Europe/Berlin
BEGIN:DAYLIGHT
TZOFFSETFROM:+0100
TZOFFSETTO:+0200
TZNAME:CEST
DTSTART:19700329T020000
RRULE:FREQ=YEARLY;INTERVAL=1;BYDAY=-1SU;BYMONTH=3
END:DAYLIGHT
BEGIN:STANDARD
TZOFFSETFROM:+0200
TZOFFSETTO:+0100
TZNAME:CET
DTSTART:19701025T030000
RRULE:FREQ=YEARLY;INTERVAL=1;BYDAY=-1SU;BYMONTH=10
END:STANDARD
END:VTIMEZONE
BEGIN:VEVENT
UID:c3db19c9b9b2d368efde29bf18c34559@gruene-bergtheim.de
URL;VALUE=URI:https://gruene-bergtheim.de/termine/putz-munter-in-bergthei
 m/
LOCATION:Bergtheim, evang. Gemeindezentrum
SUMMARY:putz.munter 2026 in Bergtheim – Mach mit !
DESCRIPTION;ALTREP="data:text/html,%0A%3Cfigure%20class%3D%22wp-block-ima
 ge%20size-full%22%3E%3Cimg%20src%3D%22https%3A%2F%2Fgruene-bergtheim.de%2
 Fwp-content%2Fuploads%2Fsites%2F29%2F2026%2F02%2Fputz.munter-bergtheim.jp
 g%22%20alt%3D%22%22%20class%3D%22wp-image-3453%22%20%2F%3E%3C%2Ffigure%3E
 %0A":
CLASS:PUBLIC
DTSTART;TZID=Europe/Berlin:20260228T100000
DTEND;TZID=Europe/Berlin:20260228T123000
DTSTAMP:20260421T100411
END:VEVENT
END:VCALENDAR